BEGIN:VCALENDAR
VERSION:2.0
PRODID:-//Cooperative Extension in Cumberland County - ECPv6.15.17.1//NONSGML v1.0//EN
CALSCALE:GREGORIAN
METHOD:PUBLISH
X-WR-CALNAME:Cooperative Extension in Cumberland County
X-ORIGINAL-URL:https://extension.umaine.edu/cumberland
X-WR-CALDESC:Events for Cooperative Extension in Cumberland County
REFRESH-INTERVAL;VALUE=DURATION:PT1H
X-Robots-Tag:noindex
X-PUBLISHED-TTL:PT1H
BEGIN:VTIMEZONE
TZID:America/New_York
BEGIN:DAYLIGHT
TZOFFSETFROM:-0500
TZOFFSETTO:-0400
TZNAME:EDT
DTSTART:20230312T070000
END:DAYLIGHT
BEGIN:STANDARD
TZOFFSETFROM:-0400
TZOFFSETTO:-0500
TZNAME:EST
DTSTART:20231105T060000
END:STANDARD
BEGIN:DAYLIGHT
TZOFFSETFROM:-0500
TZOFFSETTO:-0400
TZNAME:EDT
DTSTART:20240310T070000
END:DAYLIGHT
BEGIN:STANDARD
TZOFFSETFROM:-0400
TZOFFSETTO:-0500
TZNAME:EST
DTSTART:20241103T060000
END:STANDARD
BEGIN:DAYLIGHT
TZOFFSETFROM:-0500
TZOFFSETTO:-0400
TZNAME:EDT
DTSTART:20250309T070000
END:DAYLIGHT
BEGIN:STANDARD
TZOFFSETFROM:-0400
TZOFFSETTO:-0500
TZNAME:EST
DTSTART:20251102T060000
END:STANDARD
END:VTIMEZONE
BEGIN:VEVENT
DTSTART;TZID=America/New_York:20240320T170000
DTEND;TZID=America/New_York:20240320T183000
DTSTAMP:20260420T205924
CREATED:20240222T131857Z
LAST-MODIFIED:20240222T131857Z
UID:10001089-1710954000-1710959400@extension.umaine.edu
SUMMARY:Starting Seeds Indoors Workshop
DESCRIPTION:Join us for a Starting Seeds Indoors Workshop on Wednesday\, March 20\, from 5:00 p.m. to 6:30 p.m. at the Cumberland County Office\, 75 Clearwater Dr\, Ste 104\, Falmouth. \n\nDesigned to provide participants with the best practices for growing seedlings indoors\, this workshop will feature hands-on learning with the opportunity to sow a pot of seeds to take home. Space is limited and registration is required. The workshop fee is offered on a sliding scale\, $5-$15. This workshop is being offered in collaboration with the Falmouth Wellness Committee. \nFor more information and to register\, please visit our website.
URL:https://extension.umaine.edu/cumberland/event/starting-seeds-indoors-workshop/
LOCATION:Cumberland County Extension Office\, 75 Clearwater Dr. Suite 104\, Falmouth\, ME\, 04105\, United States
CATEGORIES:Horticulture
ATTACH;FMTTYPE=image/jpeg:https://extension.umaine.edu/cumberland/wp-content/uploads/sites/35/2024/02/Tomato-Seedlings-by-Pamela-Hargest.jpeg
ORGANIZER;CN="Pamela Hargest":MAILTO:pamela.hargest@maine.edu
END:VEVENT
BEGIN:VEVENT
DTSTART;TZID=America/New_York:20240320T173000
DTEND;TZID=America/New_York:20240320T200000
DTSTAMP:20260420T205924
CREATED:20240201T164443Z
LAST-MODIFIED:20240205T160518Z
UID:10001079-1710955800-1710964800@extension.umaine.edu
SUMMARY:Canning Savory Jellies and Jams
DESCRIPTION:Date: March 20\, 2024\nLocation: Scarborough High School\, 11 Municipal Drive\, Scarborough\, ME\nTime: 5:30 – 8:00 p.m.\nCost: $25\nTo register: Savory Jellies and Jams Registration \nHerbs\, sweet and hot peppers\, onions\, and garlic can all be preserved in jams in jellies\, which make unique treats in the dark of winter. These spreads will warm up your hearty winter fare as a glaze on meats or as an appetizer served with soft cheese. Come learn about the versatility of savory jams and jellies with this hands-on class from University of Maine Cooperative Extension staff and Master Food Preserver volunteers. Participants will receive recipes and a jar of savory jelly/jam. Please bring a potholder with you to class.
URL:https://extension.umaine.edu/cumberland/event/savory-jellies-and-jams/
LOCATION:ME
CATEGORIES:All Events in Cumberland County,Food Preservation
ATTACH;FMTTYPE=image/jpeg:https://extension.umaine.edu/cumberland/wp-content/uploads/sites/35/2024/02/hot-pepper-jelly-copy-e1725562585717.jpeg
END:VEVENT
END:VCALENDAR