BEGIN:VCALENDAR
VERSION:2.0
PRODID:-//Cooperative Extension in Cumberland County - ECPv6.15.17.1//NONSGML v1.0//EN
CALSCALE:GREGORIAN
METHOD:PUBLISH
X-WR-CALNAME:Cooperative Extension in Cumberland County
X-ORIGINAL-URL:https://extension.umaine.edu/cumberland
X-WR-CALDESC:Events for Cooperative Extension in Cumberland County
REFRESH-INTERVAL;VALUE=DURATION:PT1H
X-Robots-Tag:noindex
X-PUBLISHED-TTL:PT1H
BEGIN:VTIMEZONE
TZID:America/New_York
BEGIN:DAYLIGHT
TZOFFSETFROM:-0500
TZOFFSETTO:-0400
TZNAME:EDT
DTSTART:20180311T070000
END:DAYLIGHT
BEGIN:STANDARD
TZOFFSETFROM:-0400
TZOFFSETTO:-0500
TZNAME:EST
DTSTART:20181104T060000
END:STANDARD
BEGIN:DAYLIGHT
TZOFFSETFROM:-0500
TZOFFSETTO:-0400
TZNAME:EDT
DTSTART:20190310T070000
END:DAYLIGHT
BEGIN:STANDARD
TZOFFSETFROM:-0400
TZOFFSETTO:-0500
TZNAME:EST
DTSTART:20191103T060000
END:STANDARD
BEGIN:DAYLIGHT
TZOFFSETFROM:-0500
TZOFFSETTO:-0400
TZNAME:EDT
DTSTART:20200308T070000
END:DAYLIGHT
BEGIN:STANDARD
TZOFFSETFROM:-0400
TZOFFSETTO:-0500
TZNAME:EST
DTSTART:20201101T060000
END:STANDARD
END:VTIMEZONE
BEGIN:VEVENT
DTSTART;TZID=America/New_York:20190506T173000
DTEND;TZID=America/New_York:20190506T193000
DTSTAMP:20260420T141532
CREATED:20190402T123225Z
LAST-MODIFIED:20190402T123225Z
UID:10000666-1557163800-1557171000@extension.umaine.edu
SUMMARY:Farm Tractor Safety Course
DESCRIPTION:Participants will learn how to handle tractors and equipment safely\, how to identify hazards\, and how to minimize the chances of accidents. The course is open to all adults and youth interested\, but priority will be given to youth ages 14 to 16. This course is required for 14 and 15 year olds who plan to operate farm equipment for hire on farms other than their own. A Federal Certificate of Training will be issued at the end of the course after successful completion of the written test and driving course and with attendance requirements met.
URL:https://extension.umaine.edu/cumberland/event/farm-tractor-safety-course/2019-05-06/
LOCATION:Gorham Public Works\, 80 Huston Road\, Gorham\, ME\, 04038\, United States
CATEGORIES:Agriculture
ATTACH;FMTTYPE=image/jpeg:https://extension.umaine.edu/cumberland/wp-content/uploads/sites/35/2016/11/remsberg_13080650496blog.jpg
END:VEVENT
BEGIN:VEVENT
DTSTART;TZID=America/New_York:20190513T173000
DTEND;TZID=America/New_York:20190513T193000
DTSTAMP:20260420T141532
CREATED:20190402T123225Z
LAST-MODIFIED:20190402T123225Z
UID:10000667-1557768600-1557775800@extension.umaine.edu
SUMMARY:Farm Tractor Safety Course
DESCRIPTION:Participants will learn how to handle tractors and equipment safely\, how to identify hazards\, and how to minimize the chances of accidents. The course is open to all adults and youth interested\, but priority will be given to youth ages 14 to 16. This course is required for 14 and 15 year olds who plan to operate farm equipment for hire on farms other than their own. A Federal Certificate of Training will be issued at the end of the course after successful completion of the written test and driving course and with attendance requirements met.
URL:https://extension.umaine.edu/cumberland/event/farm-tractor-safety-course/2019-05-13/
LOCATION:Gorham Public Works\, 80 Huston Road\, Gorham\, ME\, 04038\, United States
CATEGORIES:Agriculture
ATTACH;FMTTYPE=image/jpeg:https://extension.umaine.edu/cumberland/wp-content/uploads/sites/35/2016/11/remsberg_13080650496blog.jpg
END:VEVENT
BEGIN:VEVENT
DTSTART;TZID=America/New_York:20190520T173000
DTEND;TZID=America/New_York:20190520T193000
DTSTAMP:20260420T141532
CREATED:20190402T123225Z
LAST-MODIFIED:20190402T123225Z
UID:10000668-1558373400-1558380600@extension.umaine.edu
SUMMARY:Farm Tractor Safety Course
DESCRIPTION:Participants will learn how to handle tractors and equipment safely\, how to identify hazards\, and how to minimize the chances of accidents. The course is open to all adults and youth interested\, but priority will be given to youth ages 14 to 16. This course is required for 14 and 15 year olds who plan to operate farm equipment for hire on farms other than their own. A Federal Certificate of Training will be issued at the end of the course after successful completion of the written test and driving course and with attendance requirements met.
URL:https://extension.umaine.edu/cumberland/event/farm-tractor-safety-course/2019-05-20/
LOCATION:Gorham Public Works\, 80 Huston Road\, Gorham\, ME\, 04038\, United States
CATEGORIES:Agriculture
ATTACH;FMTTYPE=image/jpeg:https://extension.umaine.edu/cumberland/wp-content/uploads/sites/35/2016/11/remsberg_13080650496blog.jpg
END:VEVENT
BEGIN:VEVENT
DTSTART;TZID=America/New_York:20190525T090000
DTEND;TZID=America/New_York:20190525T170000
DTSTAMP:20260420T141532
CREATED:20190402T123225Z
LAST-MODIFIED:20190402T123225Z
UID:10000669-1558774800-1558803600@extension.umaine.edu
SUMMARY:Farm Tractor Safety Course
DESCRIPTION:Participants will learn how to handle tractors and equipment safely\, how to identify hazards\, and how to minimize the chances of accidents. The course is open to all adults and youth interested\, but priority will be given to youth ages 14 to 16. This course is required for 14 and 15 year olds who plan to operate farm equipment for hire on farms other than their own. A Federal Certificate of Training will be issued at the end of the course after successful completion of the written test and driving course and with attendance requirements met.
URL:https://extension.umaine.edu/cumberland/event/farm-tractor-safety-course/2019-05-25/
LOCATION:Gorham Public Works\, 80 Huston Road\, Gorham\, ME\, 04038\, United States
CATEGORIES:Agriculture
ATTACH;FMTTYPE=image/jpeg:https://extension.umaine.edu/cumberland/wp-content/uploads/sites/35/2016/11/remsberg_13080650496blog.jpg
END:VEVENT
END:VCALENDAR