BEGIN:VCALENDAR
VERSION:2.0
PRODID:-//Cooperative Extension in Cumberland County - ECPv6.15.17.1//NONSGML v1.0//EN
CALSCALE:GREGORIAN
METHOD:PUBLISH
X-WR-CALNAME:Cooperative Extension in Cumberland County
X-ORIGINAL-URL:https://extension.umaine.edu/cumberland
X-WR-CALDESC:Events for Cooperative Extension in Cumberland County
REFRESH-INTERVAL;VALUE=DURATION:PT1H
X-Robots-Tag:noindex
X-PUBLISHED-TTL:PT1H
BEGIN:VTIMEZONE
TZID:America/New_York
BEGIN:DAYLIGHT
TZOFFSETFROM:-0500
TZOFFSETTO:-0400
TZNAME:EDT
DTSTART:20250309T070000
END:DAYLIGHT
BEGIN:STANDARD
TZOFFSETFROM:-0400
TZOFFSETTO:-0500
TZNAME:EST
DTSTART:20251102T060000
END:STANDARD
BEGIN:DAYLIGHT
TZOFFSETFROM:-0500
TZOFFSETTO:-0400
TZNAME:EDT
DTSTART:20260308T070000
END:DAYLIGHT
BEGIN:STANDARD
TZOFFSETFROM:-0400
TZOFFSETTO:-0500
TZNAME:EST
DTSTART:20261101T060000
END:STANDARD
BEGIN:DAYLIGHT
TZOFFSETFROM:-0500
TZOFFSETTO:-0400
TZNAME:EDT
DTSTART:20270314T070000
END:DAYLIGHT
BEGIN:STANDARD
TZOFFSETFROM:-0400
TZOFFSETTO:-0500
TZNAME:EST
DTSTART:20271107T060000
END:STANDARD
END:VTIMEZONE
BEGIN:VEVENT
DTSTART;TZID=America/New_York:20260528T173000
DTEND;TZID=America/New_York:20260528T193000
DTSTAMP:20260420T140929
CREATED:20260326T154527Z
LAST-MODIFIED:20260410T172539Z
UID:10001398-1779989400-1779996600@extension.umaine.edu
SUMMARY:Urban Soils and Lead: Exploring Best Practices
DESCRIPTION:Join us for an evening of learning about urban soils and strategies for safely growing food in Portland! There will be hands-on activities to demonstrate soil health best practices and resources for testing soils in your farm or garden. Featuring University of Maine Cooperative Extension\, Cultivating Community\, Cumberland County Soil and Water Conservation District\, Fresh Food Gardens\, American Farmland Trust and the City of Portland Sustainability Office. \nThis free event is open to the public and refreshments will be provided. Interpretation services are available upon request. For more information\, email carrick.gambell@maine.edu. \nRegister Online
URL:https://extension.umaine.edu/cumberland/event/urban-soils-and-lead-exploring-best-practices/
LOCATION:Boyd Street Urban Farm\, 2 Boyd St\, Portland\, 04101\, United States
CATEGORIES:Agriculture,Community Programs,Horticulture
ATTACH;FMTTYPE=image/png:https://extension.umaine.edu/cumberland/wp-content/uploads/sites/35/2026/03/Boyd-Street-Youth-Garden.png
ORGANIZER;CN="Carrick Gambell":MAILTO:carrick.gambell@maine.edu
END:VEVENT
END:VCALENDAR