BEGIN:VCALENDAR
VERSION:2.0
PRODID:-//Plugged In: For UMaine Extension Staff and Volunteers - ECPv6.15.17.1//NONSGML v1.0//EN
CALSCALE:GREGORIAN
METHOD:PUBLISH
X-WR-CALNAME:Plugged In: For UMaine Extension Staff and Volunteers
X-ORIGINAL-URL:https://extension.umaine.edu/plugged-in
X-WR-CALDESC:Events for Plugged In: For UMaine Extension Staff and Volunteers
REFRESH-INTERVAL;VALUE=DURATION:PT1H
X-Robots-Tag:noindex
X-PUBLISHED-TTL:PT1H
BEGIN:VTIMEZONE
TZID:America/New_York
BEGIN:DAYLIGHT
TZOFFSETFROM:-0500
TZOFFSETTO:-0400
TZNAME:EDT
DTSTART:20200308T070000
END:DAYLIGHT
BEGIN:STANDARD
TZOFFSETFROM:-0400
TZOFFSETTO:-0500
TZNAME:EST
DTSTART:20201101T060000
END:STANDARD
BEGIN:DAYLIGHT
TZOFFSETFROM:-0500
TZOFFSETTO:-0400
TZNAME:EDT
DTSTART:20210314T070000
END:DAYLIGHT
BEGIN:STANDARD
TZOFFSETFROM:-0400
TZOFFSETTO:-0500
TZNAME:EST
DTSTART:20211107T060000
END:STANDARD
BEGIN:DAYLIGHT
TZOFFSETFROM:-0500
TZOFFSETTO:-0400
TZNAME:EDT
DTSTART:20220313T070000
END:DAYLIGHT
BEGIN:STANDARD
TZOFFSETFROM:-0400
TZOFFSETTO:-0500
TZNAME:EST
DTSTART:20221106T060000
END:STANDARD
END:VTIMEZONE
BEGIN:VEVENT
DTSTART;TZID=America/New_York:20210811T140000
DTEND;TZID=America/New_York:20210811T150000
DTSTAMP:20260421T150657
CREATED:20210622T120455Z
LAST-MODIFIED:20210623T201704Z
UID:14714-1628690400-1628694000@extension.umaine.edu
SUMMARY:Extension Roadmap Steering Committee Meeting\, August 11\, 2021
DESCRIPTION:Meets Monthly Via Zoom\nThis group of volunteers from various areas and programs of UMaine Extension will decide where we “steer” this ship called “Extension” and collectively work to determine our short-term and long-term horizons. Their work will be drawn from the recommendations made by the five Roadmap-themed committees\, and staff survey voting results\, from the 2021 UMaine Extension Virtual All Staff Conference\, Building the Roadmap for Extension’s Future\, March 16-18\, 2021\, 10:00 a.m. to 2:00 p.m. \nQuestions about the 2021 Roadmap Steering Committee or the work that’s being done? Please contact Dean Hannah Carter\, hcarter@maine.edu. \nFor meeting agendas and notes\, please visit the 2021 Extension Roadmap Steering Committee page.
URL:https://extension.umaine.edu/plugged-in/event/extension-roadmap-steering-committee-meeting-august-11-2021/
LOCATION:Zoom
CATEGORIES:Extension Roadmap Steering Committee Meeting
ORGANIZER;CN="Dean Hannah Carter":MAILTO:hcarter@maine.edu
END:VEVENT
BEGIN:VEVENT
DTSTART;TZID=America/New_York:20210727T140000
DTEND;TZID=America/New_York:20210727T150000
DTSTAMP:20260421T150657
CREATED:20210622T115551Z
LAST-MODIFIED:20210623T201615Z
UID:14705-1627394400-1627398000@extension.umaine.edu
SUMMARY:Extension Roadmap Steering Committee Meeting\, July 27\, 2021
DESCRIPTION:Meets Monthly Via Zoom\nThis group of volunteers from various areas and programs of UMaine Extension will decide where we “steer” this ship called “Extension” and collectively work to determine our short-term and long-term horizons. Their work will be drawn from the recommendations made by the five Roadmap-themed committees\, and staff survey voting results\, from the 2021 UMaine Extension Virtual All Staff Conference\, Building the Roadmap for Extension’s Future\, March 16-18\, 2021\, 10:00 a.m. to 2:00 p.m. \nQuestions about the 2021 Roadmap Steering Committee or the work that’s being done? Please contact Dean Hannah Carter\, hcarter@maine.edu. \nFor meeting agendas and notes\, please visit the 2021 Extension Roadmap Steering Committee page.
URL:https://extension.umaine.edu/plugged-in/event/extension-roadmap-steering-committee-meeting/
LOCATION:Zoom
CATEGORIES:Extension Roadmap Steering Committee Meeting
ORGANIZER;CN="Dean Hannah Carter":MAILTO:hcarter@maine.edu
END:VEVENT
END:VCALENDAR