BEGIN:VCALENDAR
VERSION:2.0
PRODID:-//Cooperative Extension in Somerset County - ECPv6.15.17.1//NONSGML v1.0//EN
CALSCALE:GREGORIAN
METHOD:PUBLISH
X-WR-CALNAME:Cooperative Extension in Somerset County
X-ORIGINAL-URL:https://extension.umaine.edu/somerset
X-WR-CALDESC:Events for Cooperative Extension in Somerset County
REFRESH-INTERVAL;VALUE=DURATION:PT1H
X-Robots-Tag:noindex
X-PUBLISHED-TTL:PT1H
BEGIN:VTIMEZONE
TZID:America/New_York
BEGIN:DAYLIGHT
TZOFFSETFROM:-0500
TZOFFSETTO:-0400
TZNAME:EDT
DTSTART:20250309T070000
END:DAYLIGHT
BEGIN:STANDARD
TZOFFSETFROM:-0400
TZOFFSETTO:-0500
TZNAME:EST
DTSTART:20251102T060000
END:STANDARD
BEGIN:DAYLIGHT
TZOFFSETFROM:-0500
TZOFFSETTO:-0400
TZNAME:EDT
DTSTART:20260308T070000
END:DAYLIGHT
BEGIN:STANDARD
TZOFFSETFROM:-0400
TZOFFSETTO:-0500
TZNAME:EST
DTSTART:20261101T060000
END:STANDARD
BEGIN:DAYLIGHT
TZOFFSETFROM:-0500
TZOFFSETTO:-0400
TZNAME:EDT
DTSTART:20270314T070000
END:DAYLIGHT
BEGIN:STANDARD
TZOFFSETFROM:-0400
TZOFFSETTO:-0500
TZNAME:EST
DTSTART:20271107T060000
END:STANDARD
END:VTIMEZONE
BEGIN:VEVENT
DTSTART;TZID=America/New_York:20260318T173000
DTEND;TZID=America/New_York:20260318T193000
DTSTAMP:20260424T154947
CREATED:20260204T225028Z
LAST-MODIFIED:20260205T135700Z
UID:10000020-1773855000-1773862200@extension.umaine.edu
SUMMARY:Spring Farm and Garden Series: Tomato Production
DESCRIPTION:March 18\, 2026\n5:30-7:30 p.m.\nSomerset County Cooperative Extension Office\, 7 County Drive\, Skowhegan\, Maine 04976\nOR Virtual: The Zoom link will be available after you register.\n Register Online \nPlease join Nick Rowley for a spring farm and garden series focused on vegetable production\, with topics relevant to both home gardeners and farmers. The series includes four sessions featuring a mix of classroom-style lectures and group discussion. Refreshments will be provided. You may register for one session or all four\, and attendance is available either in person or virtually. \nLearn how to grow your best tomatoes yet. This session covers everything from seed starting through harvest\, including variety selection\, pruning techniques\, and identifying common tomato leaf diseases. Participants will also learn how to identify and manage common tomato pests. \nRegistration is required\, and each session is limited to 20 participants. \nIn the event of inclement weather\, sessions may be moved to a completely virtual format. Questions and accommodation needs can be directed to Nick Rowley\, 207-778-4650 Nicholas.rowley@maine.edu\, and Julie Lajoie\, 207-474-9622 julie.lajoie@maine.edu.
URL:https://extension.umaine.edu/somerset/event/spring-farm-and-garden-series-tomato-production/
LOCATION:Cooperative Extension in Somerset County\, 7 County Drive\, Skowhegan\, ME\, 04976\, United States
ORGANIZER;CN="Nick Rowley":MAILTO:nicholas.rowley@maine.edu
END:VEVENT
END:VCALENDAR