BEGIN:VCALENDAR
VERSION:2.0
PRODID:-//Cooperative Extension in Waldo County - ECPv6.15.17.1//NONSGML v1.0//EN
CALSCALE:GREGORIAN
METHOD:PUBLISH
X-WR-CALNAME:Cooperative Extension in Waldo County
X-ORIGINAL-URL:https://extension.umaine.edu/waldo
X-WR-CALDESC:Events for Cooperative Extension in Waldo County
REFRESH-INTERVAL;VALUE=DURATION:PT1H
X-Robots-Tag:noindex
X-PUBLISHED-TTL:PT1H
BEGIN:VTIMEZONE
TZID:America/New_York
BEGIN:DAYLIGHT
TZOFFSETFROM:-0500
TZOFFSETTO:-0400
TZNAME:EDT
DTSTART:20250309T070000
END:DAYLIGHT
BEGIN:STANDARD
TZOFFSETFROM:-0400
TZOFFSETTO:-0500
TZNAME:EST
DTSTART:20251102T060000
END:STANDARD
BEGIN:DAYLIGHT
TZOFFSETFROM:-0500
TZOFFSETTO:-0400
TZNAME:EDT
DTSTART:20260308T070000
END:DAYLIGHT
BEGIN:STANDARD
TZOFFSETFROM:-0400
TZOFFSETTO:-0500
TZNAME:EST
DTSTART:20261101T060000
END:STANDARD
BEGIN:DAYLIGHT
TZOFFSETFROM:-0500
TZOFFSETTO:-0400
TZNAME:EDT
DTSTART:20270314T070000
END:DAYLIGHT
BEGIN:STANDARD
TZOFFSETFROM:-0400
TZOFFSETTO:-0500
TZNAME:EST
DTSTART:20271107T060000
END:STANDARD
END:VTIMEZONE
BEGIN:VEVENT
DTSTART;TZID=America/New_York:20260507T153000
DTEND;TZID=America/New_York:20260507T170000
DTSTAMP:20260421T173441
CREATED:20260224T160511Z
LAST-MODIFIED:20260224T160511Z
UID:10001158-1778167800-1778173200@extension.umaine.edu
SUMMARY:Community Science Explorers - Session 6: The Magic of Wool: What can you do with it?
DESCRIPTION:Join us as we investigate the many uses of wool with Ted Bridge-Koenigsberg from Sebago Elementary School\, teacher of Ag in the Classroom\, and 4-H leader of the Cumberland County Sheep Club. We will explore the many ways to process fiber and its uses through hands-on activities integrating art\, science\, and social studies! \nWhen: Thursday\, May 7\, 2026 \nTime: 3:30 p.m. – 5:00 p.m. \nLocation: Belfast Free Library\, 106 High Street\, Belfast\, Maine 04915 \nRegistration must be completed for each program session. Registration for each session will open following the completion of the previous month’s program. \nSnacks will be provided for participants. Please list any dietary restrictions in the registration form below. \nFor more information or to request a reasonable accommodation\, please get in touch with Karen Giles at the Waldo County Cooperative Extension office at 207-342-5971 or karen.giles@maine.edu
URL:https://extension.umaine.edu/waldo/event/community-science-explorers-session-6-the-magic-of-wool-what-can-you-do-with-it/
LOCATION:Belfast Free Library\, 106 High St.\, Belfast\, ME\, 04915\, United States
CATEGORIES:4-H
ORGANIZER;CN="Karen Giles":MAILTO:karen.giles@maine.edu
END:VEVENT
END:VCALENDAR