BEGIN:VCALENDAR
VERSION:2.0
PRODID:-//Cooperative Extension in Waldo County - ECPv6.15.17.1//NONSGML v1.0//EN
CALSCALE:GREGORIAN
METHOD:PUBLISH
X-WR-CALNAME:Cooperative Extension in Waldo County
X-ORIGINAL-URL:https://extension.umaine.edu/waldo
X-WR-CALDESC:Events for Cooperative Extension in Waldo County
REFRESH-INTERVAL;VALUE=DURATION:PT1H
X-Robots-Tag:noindex
X-PUBLISHED-TTL:PT1H
BEGIN:VTIMEZONE
TZID:America/New_York
BEGIN:DAYLIGHT
TZOFFSETFROM:-0500
TZOFFSETTO:-0400
TZNAME:EDT
DTSTART:20180311T070000
END:DAYLIGHT
BEGIN:STANDARD
TZOFFSETFROM:-0400
TZOFFSETTO:-0500
TZNAME:EST
DTSTART:20181104T060000
END:STANDARD
BEGIN:DAYLIGHT
TZOFFSETFROM:-0500
TZOFFSETTO:-0400
TZNAME:EDT
DTSTART:20190310T070000
END:DAYLIGHT
BEGIN:STANDARD
TZOFFSETFROM:-0400
TZOFFSETTO:-0500
TZNAME:EST
DTSTART:20191103T060000
END:STANDARD
BEGIN:DAYLIGHT
TZOFFSETFROM:-0500
TZOFFSETTO:-0400
TZNAME:EDT
DTSTART:20200308T070000
END:DAYLIGHT
BEGIN:STANDARD
TZOFFSETFROM:-0400
TZOFFSETTO:-0500
TZNAME:EST
DTSTART:20201101T060000
END:STANDARD
END:VTIMEZONE
BEGIN:VEVENT
DTSTART;TZID=America/New_York:20190216T100000
DTEND;TZID=America/New_York:20190216T120000
DTSTAMP:20260421T180327
CREATED:20190116T145137Z
LAST-MODIFIED:20190116T145137Z
UID:10000518-1550311200-1550318400@extension.umaine.edu
SUMMARY:4-H Committee: Scholarships for 4-H Education Trips
DESCRIPTION:
URL:https://extension.umaine.edu/waldo/event/4-h-committee-scholarships-for-4-h-education-trips/
LOCATION:UMaine Extension Waldo County\, 992 Waterville Rd\, Waldo\, ME\, 04915\, United States
ORGANIZER;CN="Joyce Weaver":MAILTO:joyce.weaver@maine.edu
END:VEVENT
BEGIN:VEVENT
DTSTART;TZID=America/New_York:20190204T100000
DTEND;TZID=America/New_York:20190204T120000
DTSTAMP:20260421T180327
CREATED:20190116T144652Z
LAST-MODIFIED:20190116T144652Z
UID:10000517-1549274400-1549281600@extension.umaine.edu
SUMMARY:4-H Education Committee [Plan of Work]
DESCRIPTION:
URL:https://extension.umaine.edu/waldo/event/4-h-education-committee-plan-of-work/
LOCATION:UMaine Extension Waldo County\, 992 Waterville Rd\, Waldo\, ME\, 04915\, United States
ORGANIZER;CN="Joyce Weaver":MAILTO:joyce.weaver@maine.edu
END:VEVENT
END:VCALENDAR